BEGIN:VCALENDAR
VERSION:2.0
PRODID:-//SAARTE JAHIMEESTE SELTS - ECPv5.0.2.1//NONSGML v1.0//EN
CALSCALE:GREGORIAN
METHOD:PUBLISH
X-WR-CALNAME:SAARTE JAHIMEESTE SELTS
X-ORIGINAL-URL:https://sjs.ee
X-WR-CALDESC:Events for SAARTE JAHIMEESTE SELTS
BEGIN:VTIMEZONE
TZID:Europe/Helsinki
BEGIN:DAYLIGHT
TZOFFSETFROM:+0200
TZOFFSETTO:+0300
TZNAME:EEST
DTSTART:20240331T010000
END:DAYLIGHT
BEGIN:STANDARD
TZOFFSETFROM:+0300
TZOFFSETTO:+0200
TZNAME:EET
DTSTART:20241027T010000
END:STANDARD
END:VTIMEZONE
BEGIN:VEVENT
DTSTART;VALUE=DATE:20241222
DTEND;VALUE=DATE:20241223
DTSTAMP:20260422T205908
CREATED:20241221T203351Z
LAST-MODIFIED:20241221T203351Z
UID:5292-1734825600-1734911999@sjs.ee
SUMMARY:EJS jahirahu väljakuulutamine Tartus
DESCRIPTION:EJS jahirahu väljakuulutamine Tartus
URL:https://sjs.ee/event2/ejs-jahirahu-valjakuulutamine-tartus/
CATEGORIES:Kalender
END:VEVENT
END:VCALENDAR