BEGIN:VCALENDAR
VERSION:2.0
PRODID:-//SAARTE JAHIMEESTE SELTS - ECPv5.0.2.1//NONSGML v1.0//EN
CALSCALE:GREGORIAN
METHOD:PUBLISH
X-WR-CALNAME:SAARTE JAHIMEESTE SELTS
X-ORIGINAL-URL:https://sjs.ee
X-WR-CALDESC:Events for SAARTE JAHIMEESTE SELTS
BEGIN:VTIMEZONE
TZID:Europe/Helsinki
BEGIN:DAYLIGHT
TZOFFSETFROM:+0200
TZOFFSETTO:+0300
TZNAME:EEST
DTSTART:20250330T010000
END:DAYLIGHT
BEGIN:STANDARD
TZOFFSETFROM:+0300
TZOFFSETTO:+0200
TZNAME:EET
DTSTART:20251026T010000
END:STANDARD
END:VTIMEZONE
BEGIN:VEVENT
DTSTART;VALUE=DATE:20251223
DTEND;VALUE=DATE:20251229
DTSTAMP:20260420T145150
CREATED:20251217T085410Z
LAST-MODIFIED:20251217T085410Z
UID:5756-1766448000-1766966399@sjs.ee
SUMMARY:HÄID PÜHI! SJS kontor SULETUD
DESCRIPTION:HÄID PÜHI! SJS kontor SULETUD
URL:https://sjs.ee/event2/haid-puhi-sjs-kontor-suletud-2/
CATEGORIES:Kalender
END:VEVENT
END:VCALENDAR