BEGIN:VCALENDAR
VERSION:2.0
PRODID:-//SAARTE JAHIMEESTE SELTS - ECPv5.0.2.1//NONSGML v1.0//EN
CALSCALE:GREGORIAN
METHOD:PUBLISH
X-WR-CALNAME:SAARTE JAHIMEESTE SELTS
X-ORIGINAL-URL:https://sjs.ee
X-WR-CALDESC:Events for SAARTE JAHIMEESTE SELTS
BEGIN:VTIMEZONE
TZID:Europe/Helsinki
BEGIN:DAYLIGHT
TZOFFSETFROM:+0200
TZOFFSETTO:+0300
TZNAME:EEST
DTSTART:20230326T010000
END:DAYLIGHT
BEGIN:STANDARD
TZOFFSETFROM:+0300
TZOFFSETTO:+0200
TZNAME:EET
DTSTART:20231029T010000
END:STANDARD
END:VTIMEZONE
BEGIN:VEVENT
DTSTART;VALUE=DATE:20230320
DTEND;VALUE=DATE:20230321
DTSTAMP:20260423T192314
CREATED:20220830T181904Z
LAST-MODIFIED:20220830T182155Z
UID:3946-1679270400-1679356799@sjs.ee
SUMMARY:Hundi\, ilvese ja šaakali vaatlusandmete esitamise tähtaeg
DESCRIPTION:Hundi\, ilvese ja šaakali vaatlusandmete esitamise tähtaeg
URL:https://sjs.ee/event2/hundi-ilvese-ja-saakali-vaatlusandmete-esitamise-tahtaeg/
CATEGORIES:Kalender
END:VEVENT
END:VCALENDAR