BEGIN:VCALENDAR
VERSION:2.0
PRODID:-//SAARTE JAHIMEESTE SELTS - ECPv5.0.2.1//NONSGML v1.0//EN
CALSCALE:GREGORIAN
METHOD:PUBLISH
X-WR-CALNAME:SAARTE JAHIMEESTE SELTS
X-ORIGINAL-URL:https://sjs.ee
X-WR-CALDESC:Events for SAARTE JAHIMEESTE SELTS
BEGIN:VTIMEZONE
TZID:Europe/Helsinki
BEGIN:DAYLIGHT
TZOFFSETFROM:+0200
TZOFFSETTO:+0300
TZNAME:EEST
DTSTART:20240331T010000
END:DAYLIGHT
BEGIN:STANDARD
TZOFFSETFROM:+0300
TZOFFSETTO:+0200
TZNAME:EET
DTSTART:20241027T010000
END:STANDARD
END:VTIMEZONE
BEGIN:VEVENT
DTSTART;TZID=Europe/Helsinki:20240330T190000
DTEND;TZID=Europe/Helsinki:20240330T235900
DTSTAMP:20260420T131432
CREATED:20231230T181527Z
LAST-MODIFIED:20240326T050131Z
UID:4684-1711825200-1711843140@sjs.ee
SUMMARY:Jahiaasta lõpupidu
DESCRIPTION:Jahiaasta lõpupidu
URL:https://sjs.ee/event2/jahiaasta-lopupidu-2/
CATEGORIES:Kalender
END:VEVENT
END:VCALENDAR