BEGIN:VCALENDAR
VERSION:2.0
PRODID:-//SAARTE JAHIMEESTE SELTS - ECPv5.0.2.1//NONSGML v1.0//EN
CALSCALE:GREGORIAN
METHOD:PUBLISH
X-WR-CALNAME:SAARTE JAHIMEESTE SELTS
X-ORIGINAL-URL:https://sjs.ee
X-WR-CALDESC:Events for SAARTE JAHIMEESTE SELTS
BEGIN:VTIMEZONE
TZID:Europe/Helsinki
BEGIN:DAYLIGHT
TZOFFSETFROM:+0200
TZOFFSETTO:+0300
TZNAME:EEST
DTSTART:20220327T010000
END:DAYLIGHT
BEGIN:STANDARD
TZOFFSETFROM:+0300
TZOFFSETTO:+0200
TZNAME:EET
DTSTART:20221030T010000
END:STANDARD
END:VTIMEZONE
BEGIN:VEVENT
DTSTART;TZID=Europe/Helsinki:20220917T100000
DTEND;TZID=Europe/Helsinki:20220917T170000
DTSTAMP:20260424T004713
CREATED:20220801T125605Z
LAST-MODIFIED:20220801T125605Z
UID:3888-1663408800-1663434000@sjs.ee
SUMMARY:Kalamaja CUP 2022 III etapp
DESCRIPTION:Kalamaja CUP 2022 III etapp
URL:https://sjs.ee/event2/kalamaja-cup-2022-iii-etapp/
CATEGORIES:Kalender
END:VEVENT
END:VCALENDAR