BEGIN:VCALENDAR
VERSION:2.0
PRODID:-//SAARTE JAHIMEESTE SELTS - ECPv5.0.2.1//NONSGML v1.0//EN
CALSCALE:GREGORIAN
METHOD:PUBLISH
X-WR-CALNAME:SAARTE JAHIMEESTE SELTS
X-ORIGINAL-URL:https://sjs.ee
X-WR-CALDESC:Events for SAARTE JAHIMEESTE SELTS
BEGIN:VTIMEZONE
TZID:Europe/Helsinki
BEGIN:DAYLIGHT
TZOFFSETFROM:+0200
TZOFFSETTO:+0300
TZNAME:EEST
DTSTART:20260329T010000
END:DAYLIGHT
BEGIN:STANDARD
TZOFFSETFROM:+0300
TZOFFSETTO:+0200
TZNAME:EET
DTSTART:20261025T010000
END:STANDARD
END:VTIMEZONE
BEGIN:VEVENT
DTSTART;TZID=Europe/Helsinki:20260919T100000
DTEND;TZID=Europe/Helsinki:20260919T170000
DTSTAMP:20260422T100626
CREATED:20260415T132623Z
LAST-MODIFIED:20260415T132623Z
UID:5875-1789812000-1789837200@sjs.ee
SUMMARY:Kalamaja CUP 2026 III etapp\, alad CSP-25\, A-trapp 25\, JP1\, JM1
DESCRIPTION:Kalamaja CUP 2026 III etapp\, alad CSP-25\, A-trapp 25\, JP1\, JM1
URL:https://sjs.ee/event2/kalamaja-cup-2026-iii-etapp-alad-csp-25-a-trapp-25-jp1-jm1/
CATEGORIES:Kalender
END:VEVENT
END:VCALENDAR