BEGIN:VCALENDAR
VERSION:2.0
PRODID:-//SAARTE JAHIMEESTE SELTS - ECPv5.0.2.1//NONSGML v1.0//EN
CALSCALE:GREGORIAN
METHOD:PUBLISH
X-WR-CALNAME:SAARTE JAHIMEESTE SELTS
X-ORIGINAL-URL:https://sjs.ee
X-WR-CALDESC:Events for SAARTE JAHIMEESTE SELTS
BEGIN:VTIMEZONE
TZID:Europe/Helsinki
BEGIN:DAYLIGHT
TZOFFSETFROM:+0200
TZOFFSETTO:+0300
TZNAME:EEST
DTSTART:20200329T010000
END:DAYLIGHT
BEGIN:STANDARD
TZOFFSETFROM:+0300
TZOFFSETTO:+0200
TZNAME:EET
DTSTART:20201025T010000
END:STANDARD
END:VTIMEZONE
BEGIN:VEVENT
DTSTART;TZID=Europe/Helsinki:20200526T090000
DTEND;TZID=Europe/Helsinki:20200526T110000
DTSTAMP:20260420T020204
CREATED:20200519T173111Z
LAST-MODIFIED:20200519T173748Z
UID:2166-1590483600-1590490800@sjs.ee
SUMMARY:Lasketiir broneeritud kell 9:00 - 11:00
DESCRIPTION:Lasketiir broneeritud kell 9:00 – 11:00
URL:https://sjs.ee/event2/lasketiir-broneeritud/
CATEGORIES:Kalender
END:VEVENT
END:VCALENDAR