BEGIN:VCALENDAR
VERSION:2.0
PRODID:-//SAARTE JAHIMEESTE SELTS - ECPv5.0.2.1//NONSGML v1.0//EN
CALSCALE:GREGORIAN
METHOD:PUBLISH
X-WR-CALNAME:SAARTE JAHIMEESTE SELTS
X-ORIGINAL-URL:https://sjs.ee
X-WR-CALDESC:Events for SAARTE JAHIMEESTE SELTS
BEGIN:VTIMEZONE
TZID:Europe/Helsinki
BEGIN:DAYLIGHT
TZOFFSETFROM:+0200
TZOFFSETTO:+0300
TZNAME:EEST
DTSTART:20220327T010000
END:DAYLIGHT
BEGIN:STANDARD
TZOFFSETFROM:+0300
TZOFFSETTO:+0200
TZNAME:EET
DTSTART:20221030T010000
END:STANDARD
END:VTIMEZONE
BEGIN:VEVENT
DTSTART;TZID=Europe/Helsinki:20220814T100000
DTEND;TZID=Europe/Helsinki:20220814T170000
DTSTAMP:20260424T004230
CREATED:20220720T082524Z
LAST-MODIFIED:20220720T082524Z
UID:3848-1660471200-1660496400@sjs.ee
SUMMARY:Laskevõistlus "Kes keda"
DESCRIPTION:LASKEVÕISTLUSE KES KEDA 2022 JUHEND \nVõistlus on ellu kutsutud Kaitseliidu Saaremaa Maleva Leisi rühma poolt eesmärgiga arendada kaitseliitlaste ja jahimeeste vahelisi suhteid ja propageerida laskesporti. \nLaskevõistlus Kes Keda 2022 toimub pühapäeval 14.08.2022 Kaitseliidu laskepaigas Karujärvel (endises nõukogude sõjaväeosas). Võistluste algus kell 10.00 Võistluspaiga koordinaadid 58.403305: 22.206013 Võistluspaika juhatavad suunaviidad. \nJahiseltside võistkondade eelregistreerimine hiljemalt 10.08.2022  Ive Kuningas telefon 5233947\, e –post: selts@sjs.ee . Kuna laksepaiga võimalused on piiratud ootame jahimeeste poolt maksimaalselt kuni 8 võistkonda. \nTäiendav informatsioon Kert Humal\, telefon 5053794 \, kerthuma@gmail.com \nVõistkonna suurus kuni 3 inimest.  Kavas on laskmised eri relvadest ja distantsidelt. Relvad ja laksemoona tagab Kaitseliidu Saaremaa Malev. \nKavas olevad alad:  \n\nPüstol Makarov – 4+4 proovilasku ja 8 võistluslasku\,  distants 25 m\, laskeasend püsti. Relva võib toetada kahe käega. Aeg proovideks 8 minutit ja võistluslaskudeks 8 minutit; Märkleht- püstoli märkleht.\n\n\nAutomaat AK-74 –  5 proovilasku\, 10 võistluslasku\, distants 50 meetrit\, laskeasend põlvelt. Aega proovideks 5 minutit ja võistluslaskudeks 8 minutit; Märkleht – rinnakuju nr 4.\n\n\nVintpüss SKY – 5 proovilasku\, 10 võistluslasku\, distants 100 meetrit\, laskeasend lamades. Aeg proovideks 4 minutit  ja võistluslaskudeks 8 minutit; Märkleht rinnakuju\n\n\n90mm tankitõrjekahuri märkimispüss. 5+5 proovilasku. 10 võistluslasku distants 170-200 meetrit. Laskeasend kõhuli lafetilt toetudes põlvedele ja küünarnukkidele. Aeg proovideks 5 minutit ja võistluslaskudeks 10 minutit. Märkleht seisevmees.\n\nTulemuste arvestamine: \nSelgitatakse välja parim laskur individuaal arvestuses ja parim võistkond. Võistkonna tulemus selgub kõigi harjutuste tulemuste liitmisel. Võrdsete tulemuste puhul arvestatakse vintpüssi SKY tabamusi. \nAutasustamine;  \n\nIndividuaalselt 3 paremat autasustatakse diplomi \, meene ja medal.\nMeeskondlikult parimat võistkonda autasustatakse diplomi\, medali  ja karikaga. Teist ja kolmandat meeskonda autasustatakse diplomi ja medaliga.\n\n  \nKert Humal \nLeisi rühma ülem 5053794 \nkert.huma@gmail.com \nLaskevõistlus “Kes keda”
URL:https://sjs.ee/event2/laskevoistlus-kes-keda-2/
CATEGORIES:Kalender
END:VEVENT
END:VCALENDAR