BEGIN:VCALENDAR
VERSION:2.0
PRODID:-//SAARTE JAHIMEESTE SELTS - ECPv5.0.2.1//NONSGML v1.0//EN
CALSCALE:GREGORIAN
METHOD:PUBLISH
X-WR-CALNAME:SAARTE JAHIMEESTE SELTS
X-ORIGINAL-URL:https://sjs.ee
X-WR-CALDESC:Events for SAARTE JAHIMEESTE SELTS
BEGIN:VTIMEZONE
TZID:Europe/Helsinki
BEGIN:DAYLIGHT
TZOFFSETFROM:+0200
TZOFFSETTO:+0300
TZNAME:EEST
DTSTART:20240331T010000
END:DAYLIGHT
BEGIN:STANDARD
TZOFFSETFROM:+0300
TZOFFSETTO:+0200
TZNAME:EET
DTSTART:20241027T010000
END:STANDARD
END:VTIMEZONE
BEGIN:VEVENT
DTSTART;VALUE=DATE:20240719
DTEND;VALUE=DATE:20240722
DTSTAMP:20260423T012917
CREATED:20231230T181347Z
LAST-MODIFIED:20240604T211438Z
UID:4682-1721347200-1721606399@sjs.ee
SUMMARY:Saarte jahimeeste XXXII kokkutulek
DESCRIPTION:Saarte jahimeeste XXXII kokkutuleku kava \n \nSaarte jahimeeste XXXII kokkutulek
URL:https://sjs.ee/event2/saarte-jahimeeste-xxxii-kokkutulek/
CATEGORIES:Kalender
END:VEVENT
END:VCALENDAR