BEGIN:VCALENDAR
VERSION:2.0
PRODID:-//SAARTE JAHIMEESTE SELTS - ECPv5.0.2.1//NONSGML v1.0//EN
CALSCALE:GREGORIAN
METHOD:PUBLISH
X-WR-CALNAME:SAARTE JAHIMEESTE SELTS
X-ORIGINAL-URL:https://sjs.ee
X-WR-CALDESC:Events for SAARTE JAHIMEESTE SELTS
BEGIN:VTIMEZONE
TZID:Europe/Helsinki
BEGIN:DAYLIGHT
TZOFFSETFROM:+0200
TZOFFSETTO:+0300
TZNAME:EEST
DTSTART:20230326T010000
END:DAYLIGHT
BEGIN:STANDARD
TZOFFSETFROM:+0300
TZOFFSETTO:+0200
TZNAME:EET
DTSTART:20231029T010000
END:STANDARD
END:VTIMEZONE
BEGIN:VEVENT
DTSTART;TZID=Europe/Helsinki:20230615T180000
DTEND;TZID=Europe/Helsinki:20230615T210000
DTSTAMP:20260420T095634
CREATED:20230612T084946Z
LAST-MODIFIED:20230612T084946Z
UID:4353-1686852000-1686862800@sjs.ee
SUMMARY:SJS volinike koosolek
DESCRIPTION:SJS volinike koosolek
URL:https://sjs.ee/event2/sjs-volinike-koosolek/
LOCATION:Lümanda Jahimeeste Selts
CATEGORIES:Kalender
END:VEVENT
END:VCALENDAR