BEGIN:VCALENDAR
VERSION:2.0
PRODID:-//SAARTE JAHIMEESTE SELTS - ECPv5.0.2.1//NONSGML v1.0//EN
CALSCALE:GREGORIAN
METHOD:PUBLISH
X-WR-CALNAME:SAARTE JAHIMEESTE SELTS
X-ORIGINAL-URL:https://sjs.ee
X-WR-CALDESC:Events for SAARTE JAHIMEESTE SELTS
BEGIN:VTIMEZONE
TZID:Europe/Helsinki
BEGIN:DAYLIGHT
TZOFFSETFROM:+0200
TZOFFSETTO:+0300
TZNAME:EEST
DTSTART:20240331T010000
END:DAYLIGHT
BEGIN:STANDARD
TZOFFSETFROM:+0300
TZOFFSETTO:+0200
TZNAME:EET
DTSTART:20241027T010000
END:STANDARD
END:VTIMEZONE
BEGIN:VEVENT
DTSTART;TZID=Europe/Helsinki:20240327T173000
DTEND;TZID=Europe/Helsinki:20240327T190000
DTSTAMP:20260420T095634
CREATED:20240326T102814Z
LAST-MODIFIED:20240326T102814Z
UID:4807-1711560600-1711566000@sjs.ee
SUMMARY:Tiir broneeritud
DESCRIPTION:Tiir broneeritud
URL:https://sjs.ee/event2/tiir-broneeritud-92/
CATEGORIES:Kalender
END:VEVENT
END:VCALENDAR