BEGIN:VCALENDAR
VERSION:2.0
PRODID:-//SAARTE JAHIMEESTE SELTS - ECPv5.0.2.1//NONSGML v1.0//EN
CALSCALE:GREGORIAN
METHOD:PUBLISH
X-WR-CALNAME:SAARTE JAHIMEESTE SELTS
X-ORIGINAL-URL:https://sjs.ee
X-WR-CALDESC:Events for SAARTE JAHIMEESTE SELTS
BEGIN:VTIMEZONE
TZID:Europe/Helsinki
BEGIN:DAYLIGHT
TZOFFSETFROM:+0200
TZOFFSETTO:+0300
TZNAME:EEST
DTSTART:20250330T010000
END:DAYLIGHT
BEGIN:STANDARD
TZOFFSETFROM:+0300
TZOFFSETTO:+0200
TZNAME:EET
DTSTART:20251026T010000
END:STANDARD
END:VTIMEZONE
BEGIN:VEVENT
DTSTART;TZID=Europe/Helsinki:20250915T110000
DTEND;TZID=Europe/Helsinki:20250915T130000
DTSTAMP:20260420T232217
CREATED:20250905T070932Z
LAST-MODIFIED:20250905T070932Z
UID:5659-1757934000-1757941200@sjs.ee
SUMMARY:Tiir broneeritud - PPA
DESCRIPTION:Tiir broneeritud – PPA
URL:https://sjs.ee/event2/tiir-broneeritud-ppa-4/
CATEGORIES:Kalender
END:VEVENT
END:VCALENDAR