BEGIN:VCALENDAR
VERSION:2.0
PRODID:-//SAARTE JAHIMEESTE SELTS - ECPv5.0.2.1//NONSGML v1.0//EN
CALSCALE:GREGORIAN
METHOD:PUBLISH
X-WR-CALNAME:SAARTE JAHIMEESTE SELTS
X-ORIGINAL-URL:https://sjs.ee
X-WR-CALDESC:Events for SAARTE JAHIMEESTE SELTS
BEGIN:VTIMEZONE
TZID:Europe/Helsinki
BEGIN:DAYLIGHT
TZOFFSETFROM:+0200
TZOFFSETTO:+0300
TZNAME:EEST
DTSTART:20220327T010000
END:DAYLIGHT
BEGIN:STANDARD
TZOFFSETFROM:+0300
TZOFFSETTO:+0200
TZNAME:EET
DTSTART:20221030T010000
END:STANDARD
END:VTIMEZONE
BEGIN:VEVENT
DTSTART;TZID=Europe/Helsinki:20220703T100000
DTEND;TZID=Europe/Helsinki:20220703T120000
DTSTAMP:20260423T144230
CREATED:20220617T085006Z
LAST-MODIFIED:20220617T085006Z
UID:3826-1656842400-1656849600@sjs.ee
SUMMARY:Tiir broneeritud - Salme Jahimeeste Selts
DESCRIPTION:Tiir broneeritud – Salme Jahimeeste Selts
URL:https://sjs.ee/event2/tiir-broneeritud-salme-jahimeeste-selts/
CATEGORIES:Kalender
END:VEVENT
END:VCALENDAR