BEGIN:VCALENDAR
VERSION:2.0
PRODID:-//SAARTE JAHIMEESTE SELTS - ECPv5.0.2.1//NONSGML v1.0//EN
CALSCALE:GREGORIAN
METHOD:PUBLISH
X-WR-CALNAME:SAARTE JAHIMEESTE SELTS
X-ORIGINAL-URL:https://sjs.ee
X-WR-CALDESC:Events for SAARTE JAHIMEESTE SELTS
BEGIN:VTIMEZONE
TZID:Europe/Helsinki
BEGIN:DAYLIGHT
TZOFFSETFROM:+0200
TZOFFSETTO:+0300
TZNAME:EEST
DTSTART:20240331T010000
END:DAYLIGHT
BEGIN:STANDARD
TZOFFSETFROM:+0300
TZOFFSETTO:+0200
TZNAME:EET
DTSTART:20241027T010000
END:STANDARD
END:VTIMEZONE
BEGIN:VEVENT
DTSTART;TZID=Europe/Helsinki:20241213T120000
DTEND;TZID=Europe/Helsinki:20241213T140000
DTSTAMP:20260422T205719
CREATED:20241211T094936Z
LAST-MODIFIED:20241211T094936Z
UID:5286-1734091200-1734098400@sjs.ee
SUMMARY:Tiir  broneeritud - Sihi RA
DESCRIPTION:Tiir  broneeritud – Sihi RA
URL:https://sjs.ee/event2/tiir-broneeritud-sihi-ra-18/
CATEGORIES:Kalender
END:VEVENT
END:VCALENDAR