BEGIN:VCALENDAR
VERSION:2.0
PRODID:-//SAARTE JAHIMEESTE SELTS - ECPv5.0.2.1//NONSGML v1.0//EN
CALSCALE:GREGORIAN
METHOD:PUBLISH
X-WR-CALNAME:SAARTE JAHIMEESTE SELTS
X-ORIGINAL-URL:https://sjs.ee
X-WR-CALDESC:Events for SAARTE JAHIMEESTE SELTS
BEGIN:VTIMEZONE
TZID:Europe/Helsinki
BEGIN:DAYLIGHT
TZOFFSETFROM:+0200
TZOFFSETTO:+0300
TZNAME:EEST
DTSTART:20250330T010000
END:DAYLIGHT
BEGIN:STANDARD
TZOFFSETFROM:+0300
TZOFFSETTO:+0200
TZNAME:EET
DTSTART:20251026T010000
END:STANDARD
END:VTIMEZONE
BEGIN:VEVENT
DTSTART;TZID=Europe/Helsinki:20251005T140000
DTEND;TZID=Europe/Helsinki:20251005T170000
DTSTAMP:20260420T180749
CREATED:20251001T193346Z
LAST-MODIFIED:20251001T193346Z
UID:5691-1759672800-1759683600@sjs.ee
SUMMARY:Tiir broneeritud - Sihi RA
DESCRIPTION:Tiir broneeritud – Sihi RA
URL:https://sjs.ee/event2/tiir-broneeritud-sihi-ra-26/
CATEGORIES:Kalender
END:VEVENT
END:VCALENDAR