BEGIN:VCALENDAR
VERSION:2.0
PRODID:-//SAARTE JAHIMEESTE SELTS - ECPv5.0.2.1//NONSGML v1.0//EN
CALSCALE:GREGORIAN
METHOD:PUBLISH
X-WR-CALNAME:SAARTE JAHIMEESTE SELTS
X-ORIGINAL-URL:https://sjs.ee
X-WR-CALDESC:Events for SAARTE JAHIMEESTE SELTS
BEGIN:VTIMEZONE
TZID:Europe/Helsinki
BEGIN:DAYLIGHT
TZOFFSETFROM:+0200
TZOFFSETTO:+0300
TZNAME:EEST
DTSTART:20250330T010000
END:DAYLIGHT
BEGIN:STANDARD
TZOFFSETFROM:+0300
TZOFFSETTO:+0200
TZNAME:EET
DTSTART:20251026T010000
END:STANDARD
END:VTIMEZONE
BEGIN:VEVENT
DTSTART;TZID=Europe/Helsinki:20250914T100000
DTEND;TZID=Europe/Helsinki:20250914T140000
DTSTAMP:20260421T010215
CREATED:20250808T105824Z
LAST-MODIFIED:20250808T105824Z
UID:5622-1757844000-1757858400@sjs.ee
SUMMARY:Tiir broneeritud - Võhma JS
DESCRIPTION:Tiir broneeritud – Võhma JS
URL:https://sjs.ee/event2/tiir-broneeritud-vohma-js-2/
CATEGORIES:Kalender
END:VEVENT
END:VCALENDAR