BEGIN:VCALENDAR
VERSION:2.0
PRODID:-//SAARTE JAHIMEESTE SELTS - ECPv5.0.2.1//NONSGML v1.0//EN
CALSCALE:GREGORIAN
METHOD:PUBLISH
X-WR-CALNAME:SAARTE JAHIMEESTE SELTS
X-ORIGINAL-URL:https://sjs.ee
X-WR-CALDESC:Events for SAARTE JAHIMEESTE SELTS
BEGIN:VTIMEZONE
TZID:Europe/Helsinki
BEGIN:DAYLIGHT
TZOFFSETFROM:+0200
TZOFFSETTO:+0300
TZNAME:EEST
DTSTART:20220327T010000
END:DAYLIGHT
BEGIN:STANDARD
TZOFFSETFROM:+0300
TZOFFSETTO:+0200
TZNAME:EET
DTSTART:20221030T010000
END:STANDARD
END:VTIMEZONE
BEGIN:VEVENT
DTSTART;TZID=Europe/Helsinki:20220317T140000
DTEND;TZID=Europe/Helsinki:20220317T160000
DTSTAMP:20260420T114005
CREATED:20220311T133433Z
LAST-MODIFIED:20220311T133433Z
UID:3550-1647525600-1647532800@sjs.ee
SUMMARY:Trofeede hindamine Aste jahimajas
DESCRIPTION:Trofeede hindamine Aste jahimajas
URL:https://sjs.ee/event2/trofeede-hindamine-aste-jahimajas/
CATEGORIES:Kalender
END:VEVENT
END:VCALENDAR