BEGIN:VCALENDAR
VERSION:2.0
PRODID:-//SAARTE JAHIMEESTE SELTS - ECPv5.0.2.1//NONSGML v1.0//EN
CALSCALE:GREGORIAN
METHOD:PUBLISH
X-WR-CALNAME:SAARTE JAHIMEESTE SELTS
X-ORIGINAL-URL:https://sjs.ee
X-WR-CALDESC:Events for SAARTE JAHIMEESTE SELTS
BEGIN:VTIMEZONE
TZID:Europe/Helsinki
BEGIN:DAYLIGHT
TZOFFSETFROM:+0200
TZOFFSETTO:+0300
TZNAME:EEST
DTSTART:20190331T010000
END:DAYLIGHT
BEGIN:STANDARD
TZOFFSETFROM:+0300
TZOFFSETTO:+0200
TZNAME:EET
DTSTART:20191027T010000
END:STANDARD
END:VTIMEZONE
BEGIN:VEVENT
DTSTART;TZID=Europe/Helsinki:20191218T100000
DTEND;TZID=Europe/Helsinki:20191218T160000
DTSTAMP:20260420T131132
CREATED:20191211T213920Z
LAST-MODIFIED:20191211T214959Z
UID:1437-1576663200-1576684800@sjs.ee
SUMMARY:Trofeede hindamine Kalamajas
DESCRIPTION:Trofeede hindamine Kalamajas
URL:https://sjs.ee/event2/trofeede-hindamine-kalamajas/
CATEGORIES:Kalender
END:VEVENT
END:VCALENDAR