BEGIN:VCALENDAR
VERSION:2.0
PRODID:-//SAARTE JAHIMEESTE SELTS - ECPv5.0.2.1//NONSGML v1.0//EN
CALSCALE:GREGORIAN
METHOD:PUBLISH
X-WR-CALNAME:SAARTE JAHIMEESTE SELTS
X-ORIGINAL-URL:https://sjs.ee
X-WR-CALDESC:Events for SAARTE JAHIMEESTE SELTS
BEGIN:VTIMEZONE
TZID:Europe/Helsinki
BEGIN:DAYLIGHT
TZOFFSETFROM:+0200
TZOFFSETTO:+0300
TZNAME:EEST
DTSTART:20230326T010000
END:DAYLIGHT
BEGIN:STANDARD
TZOFFSETFROM:+0300
TZOFFSETTO:+0200
TZNAME:EET
DTSTART:20231029T010000
END:STANDARD
END:VTIMEZONE
BEGIN:VEVENT
DTSTART;TZID=Europe/Helsinki:20230923T093000
DTEND;TZID=Europe/Helsinki:20230923T150000
DTSTAMP:20260423T115922
CREATED:20230825T061119Z
LAST-MODIFIED:20230825T081102Z
UID:4534-1695461400-1695481200@sjs.ee
SUMMARY:Verejälje CACT katse
DESCRIPTION: \n  \nVerejälje CACT katse
URL:https://sjs.ee/event2/verejalje-cact-katse/
CATEGORIES:Kalender
END:VEVENT
END:VCALENDAR