BEGIN:VCALENDAR
VERSION:2.0
PRODID:-//SAARTE JAHIMEESTE SELTS - ECPv5.0.2.1//NONSGML v1.0//EN
CALSCALE:GREGORIAN
METHOD:PUBLISH
X-WR-CALNAME:SAARTE JAHIMEESTE SELTS
X-ORIGINAL-URL:https://sjs.ee
X-WR-CALDESC:Events for SAARTE JAHIMEESTE SELTS
BEGIN:VTIMEZONE
TZID:Europe/Helsinki
BEGIN:DAYLIGHT
TZOFFSETFROM:+0200
TZOFFSETTO:+0300
TZNAME:EEST
DTSTART:20200329T010000
END:DAYLIGHT
BEGIN:STANDARD
TZOFFSETFROM:+0300
TZOFFSETTO:+0200
TZNAME:EET
DTSTART:20201025T010000
END:STANDARD
END:VTIMEZONE
BEGIN:VEVENT
DTSTART;TZID=Europe/Helsinki:20200321T190000
DTEND;TZID=Europe/Helsinki:20200321T235900
DTSTAMP:20260420T112637
CREATED:20200121T203114Z
LAST-MODIFIED:20200317T171346Z
UID:1623-1584817200-1584835140@sjs.ee
SUMMARY:LÜKKUB EDASI! Võhma JS 25
DESCRIPTION:LÜKKUB EDASI! Võhma JS 25
URL:https://sjs.ee/event2/vohma-js-25/
CATEGORIES:Kalender
END:VEVENT
END:VCALENDAR